BEGIN:VCALENDAR
VERSION:2.0
PRODID:-//Don Bosco Sportközpont - ECPv4.6.6//NONSGML v1.0//EN
CALSCALE:GREGORIAN
METHOD:PUBLISH
X-WR-CALNAME:Don Bosco Sportközpont
X-ORIGINAL-URL:https://dbsk.hu
X-WR-CALDESC:Events for Don Bosco Sportközpont
BEGIN:VEVENT
DTSTART;TZID=UTC+2:20200118T170000
DTEND;TZID=UTC+2:20200118T200000
DTSTAMP:20260422T044103
CREATED:20200107T145620Z
LAST-MODIFIED:20200107T145701Z
UID:3434-1579366800-1579377600@dbsk.hu
SUMMARY:Szent Vince Napi Praegustator
DESCRIPTION:SZENT VINCE NAPI PRAEGUSTATOR A DBS-BEN! \nAz esemény témája a bor és biblia köré fonódik. Megismerkedhetnek Szent Vince legendájával\, számos különleges történettel\, a bor szakrális erejével\, valamint azt is megtudhatják hogyan is készül a misebor.\nEzenfelül megkóstolhatják a molnárkalácsot\, csokoládés ostyát\, illetve sajtos-sonkás-kolbászos falatkákkal is készülünk.\nBelépődíj: 1.000.- Ft/fő\nJegyvásárlás kizárólag elővételben történik\, január 16-ig! \n
URL:https://dbsk.hu/program/szent-vince-napi-praegustator/
CATEGORIES:Közösségi,Kulturális,Lelki,Szabadidős
ATTACH;FMTTYPE=image/jpeg:https://dbsk.hu/wp-content/uploads/2020/01/praegustator-e1578408866436.jpg
END:VEVENT
END:VCALENDAR